BEGIN:VCALENDAR
VERSION:2.0
PRODID:-//KINETIC Presents - ECPv6.6.3//NONSGML v1.0//EN
CALSCALE:GREGORIAN
METHOD:PUBLISH
X-WR-CALNAME:KINETIC Presents
X-ORIGINAL-URL:https://www.kineticpresents.com
X-WR-CALDESC:Events for KINETIC Presents
REFRESH-INTERVAL;VALUE=DURATION:PT1H
X-Robots-Tag:noindex
X-PUBLISHED-TTL:PT1H
BEGIN:VTIMEZONE
TZID:UTC
BEGIN:STANDARD
TZOFFSETFROM:+0000
TZOFFSETTO:+0000
TZNAME:UTC
DTSTART:20210101T000000
END:STANDARD
END:VTIMEZONE
BEGIN:VEVENT
DTSTART;TZID=UTC:20210820T220000
DTEND;TZID=UTC:20210821T040000
DTSTAMP:20260422T093532
CREATED:20211013T091354Z
LAST-MODIFIED:20211025T210025Z
UID:10000133-1629496800-1629518400@www.kineticpresents.com
SUMMARY:discoVERS with DJ Alexis Tucci
DESCRIPTION:On Friday August 20th\, get ready for a special one-night-only event at SAX in downtown DC! Music by disco-legend Alexis Tucci who will be spinning Disco\, Nu-Disco\, and Disco House all night long. Special performances by Domingo and others\, seamlessly integrated into Alexis’ high-energy disco set. \nOpen to all members of our LGBTQIA+ community. \nProof of vaccination or negative COVID test within the previous 5 days will be required for entry. Vaccination proof can include original vaccination card or copy\, a digital photo of the card\, or a digital vaccination record on your phone.
URL:https://www.kineticpresents.com/event/discovers-w-dj-alexis-tucci/
LOCATION:SAX\, 734 11th St NW\, Washington\, DC\, 20001\, United States
CATEGORIES:discoVERS
ATTACH;FMTTYPE=image/png:https://www.kineticpresents.com/wp-content/uploads/2021/10/DiscoVERS-August-20-instagram_DM.png
END:VEVENT
END:VCALENDAR