BEGIN:VCALENDAR
VERSION:2.0
PRODID:-//KINETIC Presents - ECPv6.6.3//NONSGML v1.0//EN
CALSCALE:GREGORIAN
METHOD:PUBLISH
X-WR-CALNAME:KINETIC Presents
X-ORIGINAL-URL:https://www.kineticpresents.com
X-WR-CALDESC:Events for KINETIC Presents
REFRESH-INTERVAL;VALUE=DURATION:PT1H
X-Robots-Tag:noindex
X-PUBLISHED-TTL:PT1H
BEGIN:VTIMEZONE
TZID:UTC
BEGIN:STANDARD
TZOFFSETFROM:+0000
TZOFFSETTO:+0000
TZNAME:UTC
DTSTART:20220101T000000
END:STANDARD
END:VTIMEZONE
BEGIN:VEVENT
DTSTART;TZID=UTC:20220819T220000
DTEND;TZID=UTC:20220820T033000
DTSTAMP:20260421T184943
CREATED:20220706T003031Z
LAST-MODIFIED:20220712T035012Z
UID:10000161-1660946400-1660966200@www.kineticpresents.com
SUMMARY:discoVERS 1 Year Anniversary with DJs Robbie Leslie and Alexis Tucci
DESCRIPTION:discoVERS returns for it’s 1 year anniversary at SAX in Downtown DC. For the first time\, legendary DJ Robbie Leslie of Studio 54 fame joins discoVERS along with disco-diva Alexis Tucci. \ndiscoVERS features special performances throughout the night including one by DC-favorite KC B. Yoncé seamlessly integrated into the high-energy disco beats.  \nVIP tickets have express entry and dedicated VIP area. This event WILL SELL OUT. \nALL SALES ARE FINAL: We do not offer refunds\, returns or exchanges.
URL:https://www.kineticpresents.com/event/discovers-1-year-anniversary-with-djs-robbie-leslie-and-alexis-tucci/
LOCATION:SAX\, 734 11th St NW\, Washington\, DC\, 20001\, United States
CATEGORIES:discoVERS
ATTACH;FMTTYPE=image/jpeg:https://www.kineticpresents.com/wp-content/uploads/2022/07/DiscoVERS-1-year-anniversary-insta-scaled.jpg
END:VEVENT
END:VCALENDAR