BEGIN:VCALENDAR
VERSION:2.0
PRODID:-//KINETIC Presents - ECPv6.6.3//NONSGML v1.0//EN
CALSCALE:GREGORIAN
METHOD:PUBLISH
X-WR-CALNAME:KINETIC Presents
X-ORIGINAL-URL:https://www.kineticpresents.com
X-WR-CALDESC:Events for KINETIC Presents
REFRESH-INTERVAL;VALUE=DURATION:PT1H
X-Robots-Tag:noindex
X-PUBLISHED-TTL:PT1H
BEGIN:VTIMEZONE
TZID:UTC
BEGIN:STANDARD
TZOFFSETFROM:+0000
TZOFFSETTO:+0000
TZNAME:UTC
DTSTART:20220101T000000
END:STANDARD
END:VTIMEZONE
BEGIN:VEVENT
DTSTART;TZID=UTC:20220528T033000
DTEND;TZID=UTC:20220528T080000
DTSTAMP:20260422T193729
CREATED:20220516T222615Z
LAST-MODIFIED:20220516T222652Z
UID:10000159-1653708600-1653724800@www.kineticpresents.com
SUMMARY:PV Pride: RAW with DJs Sam Gee and D0NN13
DESCRIPTION:NIGHT 1: RAW Friday Afterparty (3:30AM-8ish)\nPuerto Vallarta’s sexiest afterparty returns after Friday’s festivities with RAW from GUAPO Productions. This Official Industry afterparty features DJs Sam Gee and D0NN13 who will provide the music to keep the energy high all night long. We are hosting a wild night full of major porn stars\, fun\, and fantasy. Massive dance floor\, gallons of lube\, slings\, and even more surprises will keep you entertained past the sunrise. Make sure not to miss the most infamous afterparty in PV this Pride! \nTo keep the party discreet and ensure it happens\, the location will be e-mailed the night of the event around 10PM.
URL:https://www.kineticpresents.com/event/pv-pride-raw-with-djs-sam-gee-and-d0nn13/
LOCATION:Location Announced Night of Party\, Puerto Vallarta\, MX\, Mexico
CATEGORIES:JUICY & RAW,RAW
ATTACH;FMTTYPE=image/jpeg:https://www.kineticpresents.com/wp-content/uploads/2022/05/RAW-PV-Pride-2022-insta-FINAL-scaled.jpg
END:VEVENT
BEGIN:VEVENT
DTSTART;TZID=UTC:20220530T033000
DTEND;TZID=UTC:20220530T080000
DTSTAMP:20260422T193729
CREATED:20220516T222911Z
LAST-MODIFIED:20220516T222911Z
UID:10000160-1653881400-1653897600@www.kineticpresents.com
SUMMARY:PV Pride: JUICY with DJs Onyx and Christian Ortega
DESCRIPTION:NIGHT 2: JUICY Sunday Afterparty (3:30AM-8ish)\nEnd your your Pride weekend with a bang late Sunday night with JUICY from GUAPO Productions. DJs Onyx and Christian Ortega will provide the music to keep you entertained all night long for this Official Industry afterparty. Come however you want to our judgment-free zone. Strip down to your comfort level with our free clothes check and have fun. A RAW Dark room\, packed dance floor\, and more surprises will make this a night you never forget.  \nTo keep the party discreet and ensure it happens\, the location will be e-mailed the night of the event around 10PM.
URL:https://www.kineticpresents.com/event/pv-pride-juicy-with-djs-onyx-and-christian-ortega/
LOCATION:Location Announced Night of Party\, Puerto Vallarta\, MX\, Mexico
CATEGORIES:JUICY,JUICY & RAW,PV Pride
ATTACH;FMTTYPE=image/jpeg:https://www.kineticpresents.com/wp-content/uploads/2022/05/juicy-pv-pride-2022-insta-FINAL.jpg
END:VEVENT
BEGIN:VEVENT
DTSTART;TZID=UTC:20221231T033000
DTEND;TZID=UTC:20230102T080000
DTSTAMP:20260422T193729
CREATED:20221210T060621Z
LAST-MODIFIED:20221210T064643Z
UID:10000176-1672457400-1672646400@www.kineticpresents.com
SUMMARY:RAW and JUICY: PV New Years After-hours by GUAPO
DESCRIPTION:Promotional Partner GUAPO Productions is producing two Industry Official Afterparties in Puerto Vallarta\, MX! \nNight 1: RAW:\nPuerto Vallarta’s sexiest party returns 3:30AM-8AM after Friday’s festivities with the return of the Industry Official Afterparty\, RAW from GUAPO Productions. We are hosting a wild night full of porn stars\, fun\, and fantasy. Gallons of lube coupled with a massive RAW play area yet and plenty more surprises. Appearances by major porn stars and a huge dance floor by the pool with beats by DJ Mohammad will keep you entertained all night long. Make sure not to miss the most infamous afterparty in PV this New Years! \nTo keep the party discreet and ensure it happens\, we will send the location of the party out the night of the party at 11PM.  \nNight 2: JUICY: \nNew Years in Puerto Vallarta is about to get a whole lot juicier this year\, with the return of the JUICY from Guapo Productions. After Sunday’s festivities\, get every last drop out of you\, or into you while you dance the night away. DJ Brett Oosterhaus will take you on a musical journey and there is plenty to explore in the RAW dark room. As Industry’s official afterparty\, you are guaranteed to have a JUICY night. \nLocation announced around 11PM the night of the event. \nFinally\, click here to check out our sponsor MISTR if you want to get PReP and receive judgement free treatment from the convenience and privacy of your own home.
URL:https://www.kineticpresents.com/event/raw-and-juicy-pv-new-years-after-hours-by-guapo/
LOCATION:Location Announced Night of Party\, Puerto Vallarta\, MX\, Mexico
CATEGORIES:JUICY & RAW
ATTACH;FMTTYPE=image/jpeg:https://www.kineticpresents.com/wp-content/uploads/2022/12/RAW-and-JUICY-NYE-2022-insta-scaled.jpg
END:VEVENT
END:VCALENDAR