BEGIN:VCALENDAR
VERSION:2.0
PRODID:-//KINETIC Presents - ECPv6.6.3//NONSGML v1.0//EN
CALSCALE:GREGORIAN
METHOD:PUBLISH
X-WR-CALNAME:KINETIC Presents
X-ORIGINAL-URL:https://www.kineticpresents.com
X-WR-CALDESC:Events for KINETIC Presents
REFRESH-INTERVAL;VALUE=DURATION:PT1H
X-Robots-Tag:noindex
X-PUBLISHED-TTL:PT1H
BEGIN:VTIMEZONE
TZID:UTC
BEGIN:STANDARD
TZOFFSETFROM:+0000
TZOFFSETTO:+0000
TZNAME:UTC
DTSTART:20210101T000000
END:STANDARD
END:VTIMEZONE
BEGIN:VEVENT
DTSTART;TZID=UTC:20210611T220000
DTEND;TZID=UTC:20210612T040000
DTSTAMP:20260422T125712
CREATED:20220515T030605Z
LAST-MODIFIED:20220515T030605Z
UID:10000156-1623448800-1623470400@www.kineticpresents.com
SUMMARY:UNCUT Pride with DJ Dan Slater
DESCRIPTION:Unleash your deepest desires on Friday night\, June 11th for the biggest BLACKOUT warehouse party in DC.  Superstar DJ Dan Slater provides the music for you to sweat\, dance\, bump\, and slide into all the other boys celebrating their pride.  Cruise the 3 play zones and make sure to get someone to swallow your pride. ?
URL:https://www.kineticpresents.com/event/uncut-pride-with-dj-dan-slater/
LOCATION:The Crucible\, 412 V Street Northeast\, Washington\, DC\, 20002\, United States
CATEGORIES:UNCUT
ATTACH;FMTTYPE=image/png:https://www.kineticpresents.com/wp-content/uploads/2022/05/UNCUT-Pride-insta-ad.png
END:VEVENT
END:VCALENDAR