BEGIN:VCALENDAR
VERSION:2.0
PRODID:-//KINETIC Presents - ECPv6.6.3//NONSGML v1.0//EN
CALSCALE:GREGORIAN
METHOD:PUBLISH
X-ORIGINAL-URL:https://www.kineticpresents.com
X-WR-CALDESC:Events for KINETIC Presents
REFRESH-INTERVAL;VALUE=DURATION:PT1H
X-Robots-Tag:noindex
X-PUBLISHED-TTL:PT1H
BEGIN:VTIMEZONE
TZID:UTC
BEGIN:STANDARD
TZOFFSETFROM:+0000
TZOFFSETTO:+0000
TZNAME:UTC
DTSTART:20210101T000000
END:STANDARD
END:VTIMEZONE
BEGIN:VEVENT
DTSTART;TZID=UTC:20211015T210000
DTEND;TZID=UTC:20211015T210000
DTSTAMP:20260422T080633
CREATED:20211013T072020Z
LAST-MODIFIED:20211025T213159Z
UID:10000131-1634331600-1634331600@www.kineticpresents.com
SUMMARY:UNCUT with DJs Jerac & Conner Curnick
DESCRIPTION:Unleash your deepest desires on Friday night\, October 15th for the return of UNCUT\, DC’s most risqué circuit PRIVATE event. DJs Jerac and Conner Curnick provide the music for you to sweat\, dance\, bump and slide into all the other boys. “The Crucible” is a massive warehouse where literally anything goes…let your inhibitions run wild. Cruise the 3 intimate play zones or dance on the main floor\, whichever your desire. \nVIP includes express entry\, free personal lubricant bottle\, and free clothes check. \nProof of vaccination or negative COVID test within the previous 5 days will be required for entry. Vaccination proof can include original vaccination card or copy\, a digital photo of the card\, or a digital vaccination record on your phone.
URL:https://www.kineticpresents.com/event/uncut-w-djs-jerac-conner-curnick/
LOCATION:The Crucible\, 412 V Street Northeast\, Washington\, DC\, 20002\, United States
CATEGORIES:UNCUT
ATTACH;FMTTYPE=image/png:https://www.kineticpresents.com/wp-content/uploads/2021/10/UNCUT-Oct-15th-insta-ad-2am.png
END:VEVENT
END:VCALENDAR