BEGIN:VCALENDAR
VERSION:2.0
PRODID:-//KINETIC Presents - ECPv6.6.3//NONSGML v1.0//EN
CALSCALE:GREGORIAN
METHOD:PUBLISH
X-ORIGINAL-URL:https://www.kineticpresents.com
X-WR-CALDESC:Events for KINETIC Presents
REFRESH-INTERVAL;VALUE=DURATION:PT1H
X-Robots-Tag:noindex
X-PUBLISHED-TTL:PT1H
BEGIN:VTIMEZONE
TZID:UTC
BEGIN:STANDARD
TZOFFSETFROM:+0000
TZOFFSETTO:+0000
TZNAME:UTC
DTSTART:20210101T000000
END:STANDARD
END:VTIMEZONE
BEGIN:VEVENT
DTSTART;TZID=UTC:20211210T220000
DTEND;TZID=UTC:20211211T040000
DTSTAMP:20260422T064521
CREATED:20211013T082412Z
LAST-MODIFIED:20251022T155856Z
UID:10000132-1639173600-1639195200@www.kineticpresents.com
SUMMARY:UNCUT: Jingle Balls with DJ Abel
DESCRIPTION:Content is protected.
URL:https://www.kineticpresents.com/event/uncut-jingle-balls-w-dj-abel/
LOCATION:The Crucible\, 412 V Street Northeast\, Washington\, DC\, 20002\, United States
CATEGORIES:UNCUT
END:VEVENT
END:VCALENDAR