BEGIN:VCALENDAR
VERSION:2.0
PRODID:-//KINETIC Presents - ECPv6.6.3//NONSGML v1.0//EN
CALSCALE:GREGORIAN
METHOD:PUBLISH
X-ORIGINAL-URL:https://www.kineticpresents.com
X-WR-CALDESC:Events for KINETIC Presents
REFRESH-INTERVAL;VALUE=DURATION:PT1H
X-Robots-Tag:noindex
X-PUBLISHED-TTL:PT1H
BEGIN:VTIMEZONE
TZID:America/New_York
BEGIN:DAYLIGHT
TZOFFSETFROM:-0500
TZOFFSETTO:-0400
TZNAME:EDT
DTSTART:20250309T070000
END:DAYLIGHT
BEGIN:STANDARD
TZOFFSETFROM:-0400
TZOFFSETTO:-0500
TZNAME:EST
DTSTART:20251102T060000
END:STANDARD
END:VTIMEZONE
BEGIN:VEVENT
DTSTART;TZID=America/New_York:20250605T220000
DTEND;TZID=America/New_York:20250609T040000
DTSTAMP:20260420T010701
CREATED:20250221T194958Z
LAST-MODIFIED:20250529T150809Z
UID:10000240-1749160800-1749441600@www.kineticpresents.com
SUMMARY:The World Comes to DC 2025 Pride Weekend Pass (SOLD OUT)
DESCRIPTION:KINETIC Presents is proud to once again team up with Capital Pride Alliance to produce four official partner events for DC World Pride 2025 across one electrifying weekend! For the first time in history\, KINETIC Presents is bringing together the world’s biggest party powerhouses in DC for an unforgettable\, international celebration like never before! \nThursday June 5 (10PM-3AM): El Mozo: Yes To All  \nFriday June 6 (10PM-3:30AM): UNCUT XXL \nSaturday June 7 (10PM-4AM) : Fabric of Freedom MAIN EVENT (Including WE Party: Starlines and discoVERS) \nSunday June 8 (10PM-4AM): Matinée Group: LaLeche! Enterprise \n4 Nighttime Main Events\, 30+ International Artists\, 1 Extraordinary Weekend \n+ Performances by Pabllo Vittar\, Alyssa Edwards\, Frankie Grande\, Wendy Guevarra\, and More! \nTo ensure a safe and accessible experience for all\, all events will be held in private venues. \nFor the 50th Anniversary of DC Pride\, Get ready for the largest pride in DC History! \nKINETIC 2025 Pride VIP Weekend Passes include EXPRESS entry into ALL 4 events\, and dedicated VIP areas\, bars and bathrooms at select venues. \n#DCWorldPride2025 #KineticPresents #TheWorldComesToDC #Pride #LGBTQ+ \n#givingbacktocharity \nALL SALES ARE FINAL: We do not offer refunds\, returns or exchanges. Each QR code will be exchanged for a wristband\, and once redeemed\, the ticket is considered claimed and non-transferable. Do NOT remove your wristband for the entire weekend. This wristband is your entry ticket for all events and once claimed\, no replacements will be given. Entry closes 1 hour prior to event end times. Re-entry is not permitted and all exits are final. KINETIC Presents is not responsible for any issues that may arise with lost wristbands\, 3rd party ticket resellers\, or ticket transfers.
URL:https://www.kineticpresents.com/event/the-world-comes-to-dc-2025-pride-weekend-pass/
LOCATION:4 DC Venues\, Washington\, DC
CATEGORIES:World Pride DC 2025
ATTACH;FMTTYPE=image/jpeg:https://www.kineticpresents.com/wp-content/uploads/2025/02/Kinetic-World-Pride-2025-teaser-8-insta-scaled.jpg
END:VEVENT
BEGIN:VEVENT
DTSTART;TZID=America/New_York:20250109T220000
DTEND;TZID=America/New_York:20250113T030000
DTSTAMP:20260420T010701
CREATED:20241116T205414Z
LAST-MODIFIED:20250108T054832Z
UID:10000232-1736460000-1736737200@www.kineticpresents.com
SUMMARY:KINETIC Presents KINK: Official MAL Weekend 2025 Events feat. Gigi Goode
DESCRIPTION:KINETIC Presents & Centaur M.C. (MAL) are bringing you KINK: A weekend of FOUR official Mid-Atlantic Leather dance parties produced by LGBTQ+ creators benefitting our own community. \nYou begged for it\, and we’re delivering—this year\, we’re not just giving you dance parties\, we’re unleashing BRAND-NEW venues with play zones to satisfy your every desire at ALL 4 events! \nThursday\, Jan. 9th\, 2025 – BOOTCAMP (10PM–3AM) \nVenue: BUNKER 2001 14th Street NW\, Washington\, DC 20009 \nGet ready for BOOTCAMP\, the official KINETIC Presents/MAL Weekend kick-off on Thursday\, January 9th. This isn’t just a pre-party—it’s your first drill in the hottest bootcamp you’ve ever experienced. Alex Lo will get the recruits warmed up and international DJ Dan Slater will get your bodies whipped into shape. The action happens at BUNKER\, complete with play zone designed for maximum seduction.21+ Entry \n—— \nFriday\, Jan. 10th\, 2025  – UNCUT XL (10PM–4AM) \nVenue: REPUBLIQ Hall 2122 24th Pl NE\, Washington\, DC 20018 \nWelcome to UNCUT XL\, the largest and most debaucherous MAL event yet. This year\, we’re taking it to the next level with two simultaneous dance floors and a labyrinth of play zones at the newly expanded REPUBLIQ Hall.  The night begins with beats from James Anthony\, and soon allows you choose your own adventure.  Room 1 has the tribal rhythms of International DJ Alex Ramos\, while Room 2 delivers an intimate tech house set from DJ Boomer Banks. Whether you’re on the dancefloor or in the shadows\, UNCUT XL is where your dreams and deepest desires collide. 21+ Entry \n—— \nSaturday\, Jan. 11th – PERVERT XXL (10PM–4AM) \nVenue: A.I. Warehouse 530 Penn St NE Washington\, DC 20002 \nKINETIC Presents and Matinée Group team up to bring PERVERT XXL to DC for the first time as the OFFICIALSaturday MAL Main Event. This year\, we’re taking over a massive\, brand-new multi-level warehouse in Northeast DC\, transforming it into the ultimate party playground with immersive lights\, lasers\, and—for the first time ever—play zones! Get ready for a wild performance by superstar Gigi Goode from RuPaul’s Drag Race\, who will whip the crowd into submission with her electrifying show. The DJ lineup is epic\, featuring George Flores (Nina Flowers’ Alter Ego)\, Eliad Cohen (Israel)\, and Paulo (Los Angeles)\, delivering non-stop beats all night long. 21+ Entry \n—— \nSunday\, Jan. 12th – LUST (10PM–3AM) \nVenue: Culture 2006 Fenwick Street NE\, Washington\, DC 20002 \nSay goodbye to MAL weekend in the most sensual way at LUST\, the all-new Sunday closing party. This year\, we’re ditching disco for dark\, sexy beats and pulse-pounding rhythms. Hosted at Culture\, the boldest new venue in town\, get ready for Grammy-nominated Abel and party legend Sam Blacky who will keep you energized all night long. With erotic porn star performances and exclusive play zones\, LUST is not just a party—it’s an experience.  21+ Entry \n—— \nJoin thousands of leather men\, kinksters\, and fetish enthusiasts to experience D.C. like you never have before with world-class DJs and talent. Buy now to lock in the lowest possible price. Stay tuned for event full details and lineup announcements! \nFor additional information about MAL Weekend including hotels\, day passes\, and other events\, please see their official website at www.leatherweekend.com. Please Note: All MAL “Full Weekend Package” pass holders have access to the LUST Sunday Closing Party. \n—— \nVIP Weekend Passes include VIP Clothes Check\, EXPRESS entry into ALL 4 events\, dedicated VIP areas\, and VIP-designated bars and bathrooms at select venues. \nALL SALES ARE FINAL: We do not offer refunds\, returns or exchanges. Each QR code will be exchanged for a wristband\, and once redeemed\, the ticket is considered claimed and non-transferable. Entry closes 1 hour prior to event end times. For GA and VIP passholders exclusively\, re-entry is permitted. For individual ticketholders\, re-entry is not permitted and all exits are final. KINETIC Presents is not responsible for any issues that may arise with lost wristbands\, 3rd party ticket resellers\, or ticket transfers. \nIf you haven’t already heard\, MISTR offers FREE online PrEP and STI testing. No doctor’s office\, no needles\, no paperwork and free delivery. Yes\, it’s completely FREE and you can do everything from the comfort of your own home. Of course\, feel free share the good news with your friends\, for we all know that sharing is caring. Get started today at mistr.com \n 
URL:https://www.kineticpresents.com/event/kinetic-presents-kink-official-mal-weekend-2025-events/
LOCATION:4 DC Venues\, Washington\, DC
CATEGORIES:KINETIC: MAL Weekend 2025,UNCUT
ATTACH;FMTTYPE=image/jpeg:https://www.kineticpresents.com/wp-content/uploads/2024/11/01.09_12.25-MAL-Kinetic-Kink-4-event-ad-Gigi-Goode-insta-2-scaled.jpg
END:VEVENT
END:VCALENDAR