BEGIN:VCALENDAR
VERSION:2.0
PRODID:-//KINETIC Presents - ECPv6.6.3//NONSGML v1.0//EN
CALSCALE:GREGORIAN
METHOD:PUBLISH
X-WR-CALNAME:KINETIC Presents
X-ORIGINAL-URL:https://www.kineticpresents.com
X-WR-CALDESC:Events for KINETIC Presents
REFRESH-INTERVAL;VALUE=DURATION:PT1H
X-Robots-Tag:noindex
X-PUBLISHED-TTL:PT1H
BEGIN:VTIMEZONE
TZID:UTC
BEGIN:STANDARD
TZOFFSETFROM:+0000
TZOFFSETTO:+0000
TZNAME:UTC
DTSTART:20230101T000000
END:STANDARD
END:VTIMEZONE
BEGIN:VEVENT
DTSTART;TZID=UTC:20231029T150000
DTEND;TZID=UTC:20231029T220000
DTSTAMP:20260421T100634
CREATED:20230921T222744Z
LAST-MODIFIED:20230921T235552Z
UID:10000199-1698591600-1698616800@www.kineticpresents.com
SUMMARY:Garden of Evil with DJs Alexis Tucci and Peter Napoli
DESCRIPTION:Close out your Halloween weekend with Garden of Evil and join DJs Alexis Tucci and DJ Peter Napoli as they spin sets featuring Disco\, Nu-Disco\, and House music all afternoon and into the night. This is a can’t miss spooky Halloween finale soirée on one of the best rooftops in DC\, Zebbie’s Garden! \n21+ ENTRY.  \nALL SALES ARE FINAL: We do not offer refunds\, returns or exchanges. Each QR code will be exchanged for a wristband\, and once redeemed\, the ticket is considered claimed and non-transferable. Entry closes 1 hour prior to event end time\, and unless otherwise noted\, re-entry is not permitted. KINETIC Presents is not responsible for any issues that may arise with lost wristbands\, 3rd party ticket resellers\, or ticket transfers.  \nIf you haven’t already heard\, MISTR offers FREE online PrEP and STI testing. No doctor’s office\, no needles\, no paperwork and free delivery. Yes\, it’s completely FREE and you can do everything from the comfort of your own home. Of course\, feel free share the good news with your friends\, for we all know that sharing is caring. Get started today atmistr.com
URL:https://www.kineticpresents.com/event/garden-of-evil-with-djs-alexis-tucci-and-peter-napoli/
LOCATION:Zebbie’s Garden\, 1223 Connecticut Ave NW 3rd floor\, Washington\, 20036\, United States
CATEGORIES:District of the Dead
ATTACH;FMTTYPE=image/jpeg:https://www.kineticpresents.com/wp-content/uploads/2023/09/Garden-of-Evil-insta-scaled.jpg
END:VEVENT
BEGIN:VEVENT
DTSTART;TZID=UTC:20230402T150000
DTEND;TZID=UTC:20230402T220000
DTSTAMP:20260421T100634
CREATED:20230301T220347Z
LAST-MODIFIED:20230301T223229Z
UID:10000183-1680447600-1680472800@www.kineticpresents.com
SUMMARY:Electric Sunset with DJs Abel and Dan Slater
DESCRIPTION:KINETIC Presents is proud to introduce our brand new Electric Sunset series as we kick off spring. Join us at DC’s newest glass rooftop venue\, Zebbie’s Garden. Featuring Grammy-nominated DJ Abel along with international DJ Dan Slater\, be prepared as they bring you high energy vocally-driven sets which begin in the afternoon and continue well past the sunset.  \n21+ ENTRY.  \nVIP includes express entry as well as included clothes check. \nALL SALES ARE FINAL: There are no refunds\, returns\, or exchanges. Box office will close one hour prior to each event’s endtime.
URL:https://www.kineticpresents.com/event/electric-sunset-with-djs-abel-and-dan-slater/
LOCATION:Zebbie’s Garden\, 1223 Connecticut Ave NW 3rd floor\, Washington\, 20036\, United States
CATEGORIES:Electric Sunset
ATTACH;FMTTYPE=image/jpeg:https://www.kineticpresents.com/wp-content/uploads/2023/03/Electric-Sunset-insta-scaled.jpg
END:VEVENT
END:VCALENDAR